BEGIN:VCALENDAR
VERSION:2.0
PRODID:-//Montclair Golf Club - ECPv6.15.18//NONSGML v1.0//EN
CALSCALE:GREGORIAN
METHOD:PUBLISH
X-ORIGINAL-URL:https://www.montclaircc.org
X-WR-CALDESC:Events for Montclair Golf Club
REFRESH-INTERVAL;VALUE=DURATION:PT1H
X-Robots-Tag:noindex
X-PUBLISHED-TTL:PT1H
BEGIN:VTIMEZONE
TZID:America/New_York
BEGIN:DAYLIGHT
TZOFFSETFROM:-0500
TZOFFSETTO:-0400
TZNAME:EDT
DTSTART:20250309T070000
END:DAYLIGHT
BEGIN:STANDARD
TZOFFSETFROM:-0400
TZOFFSETTO:-0500
TZNAME:EST
DTSTART:20251102T060000
END:STANDARD
BEGIN:DAYLIGHT
TZOFFSETFROM:-0500
TZOFFSETTO:-0400
TZNAME:EDT
DTSTART:20260308T070000
END:DAYLIGHT
BEGIN:STANDARD
TZOFFSETFROM:-0400
TZOFFSETTO:-0500
TZNAME:EST
DTSTART:20261101T060000
END:STANDARD
BEGIN:DAYLIGHT
TZOFFSETFROM:-0500
TZOFFSETTO:-0400
TZNAME:EDT
DTSTART:20270314T070000
END:DAYLIGHT
BEGIN:STANDARD
TZOFFSETFROM:-0400
TZOFFSETTO:-0500
TZNAME:EST
DTSTART:20271107T060000
END:STANDARD
END:VTIMEZONE
BEGIN:VEVENT
DTSTART;TZID=America/New_York:20261203T180000
DTEND;TZID=America/New_York:20261203T190000
DTSTAMP:20260422T141325
CREATED:20251114T184133Z
LAST-MODIFIED:20251114T184146Z
UID:10000072-1796320800-1796324400@www.montclaircc.org
SUMMARY:Weekly Yoga & Social
DESCRIPTION:
URL:https://www.montclaircc.org/event/weekly-yoga-social/2026-12-03/
ATTACH;FMTTYPE=image/png:https://www.montclaircc.org/wp-content/uploads/sites/8481/2025/11/yoga.png
END:VEVENT
BEGIN:VEVENT
DTSTART;TZID=America/New_York:20261210T180000
DTEND;TZID=America/New_York:20261210T190000
DTSTAMP:20260422T141325
CREATED:20251114T184133Z
LAST-MODIFIED:20251114T184146Z
UID:10000073-1796925600-1796929200@www.montclaircc.org
SUMMARY:Weekly Yoga & Social
DESCRIPTION:
URL:https://www.montclaircc.org/event/weekly-yoga-social/2026-12-10/
ATTACH;FMTTYPE=image/png:https://www.montclaircc.org/wp-content/uploads/sites/8481/2025/11/yoga.png
END:VEVENT
BEGIN:VEVENT
DTSTART;TZID=America/New_York:20261217T180000
DTEND;TZID=America/New_York:20261217T190000
DTSTAMP:20260422T141325
CREATED:20251114T184133Z
LAST-MODIFIED:20251114T184146Z
UID:10000074-1797530400-1797534000@www.montclaircc.org
SUMMARY:Weekly Yoga & Social
DESCRIPTION:
URL:https://www.montclaircc.org/event/weekly-yoga-social/2026-12-17/
ATTACH;FMTTYPE=image/png:https://www.montclaircc.org/wp-content/uploads/sites/8481/2025/11/yoga.png
END:VEVENT
BEGIN:VEVENT
DTSTART;TZID=America/New_York:20261224T180000
DTEND;TZID=America/New_York:20261224T190000
DTSTAMP:20260422T141325
CREATED:20251114T184133Z
LAST-MODIFIED:20251114T184146Z
UID:10000075-1798135200-1798138800@www.montclaircc.org
SUMMARY:Weekly Yoga & Social
DESCRIPTION:
URL:https://www.montclaircc.org/event/weekly-yoga-social/2026-12-24/
ATTACH;FMTTYPE=image/png:https://www.montclaircc.org/wp-content/uploads/sites/8481/2025/11/yoga.png
END:VEVENT
BEGIN:VEVENT
DTSTART;TZID=America/New_York:20261231T180000
DTEND;TZID=America/New_York:20261231T190000
DTSTAMP:20260422T141325
CREATED:20251114T184133Z
LAST-MODIFIED:20251114T184146Z
UID:10000076-1798740000-1798743600@www.montclaircc.org
SUMMARY:Weekly Yoga & Social
DESCRIPTION:
URL:https://www.montclaircc.org/event/weekly-yoga-social/2026-12-31/
ATTACH;FMTTYPE=image/png:https://www.montclaircc.org/wp-content/uploads/sites/8481/2025/11/yoga.png
END:VEVENT
END:VCALENDAR