BEGIN:VCALENDAR
VERSION:2.0
PRODID:-//Montclair Golf Club - ECPv6.15.18//NONSGML v1.0//EN
CALSCALE:GREGORIAN
METHOD:PUBLISH
X-ORIGINAL-URL:https://www.montclaircc.org
X-WR-CALDESC:Events for Montclair Golf Club
REFRESH-INTERVAL;VALUE=DURATION:PT1H
X-Robots-Tag:noindex
X-PUBLISHED-TTL:PT1H
BEGIN:VTIMEZONE
TZID:America/New_York
BEGIN:DAYLIGHT
TZOFFSETFROM:-0500
TZOFFSETTO:-0400
TZNAME:EDT
DTSTART:20260308T070000
END:DAYLIGHT
BEGIN:STANDARD
TZOFFSETFROM:-0400
TZOFFSETTO:-0500
TZNAME:EST
DTSTART:20261101T060000
END:STANDARD
BEGIN:DAYLIGHT
TZOFFSETFROM:-0500
TZOFFSETTO:-0400
TZNAME:EDT
DTSTART:20270314T070000
END:DAYLIGHT
BEGIN:STANDARD
TZOFFSETFROM:-0400
TZOFFSETTO:-0500
TZNAME:EST
DTSTART:20271107T060000
END:STANDARD
BEGIN:DAYLIGHT
TZOFFSETFROM:-0500
TZOFFSETTO:-0400
TZNAME:EDT
DTSTART:20280312T070000
END:DAYLIGHT
BEGIN:STANDARD
TZOFFSETFROM:-0400
TZOFFSETTO:-0500
TZNAME:EST
DTSTART:20281105T060000
END:STANDARD
END:VTIMEZONE
BEGIN:VEVENT
DTSTART;TZID=America/New_York:20270805T180000
DTEND;TZID=America/New_York:20270805T190000
DTSTAMP:20260423T021809
CREATED:20251114T184133Z
LAST-MODIFIED:20251114T184146Z
UID:10000107-1817488800-1817492400@www.montclaircc.org
SUMMARY:Weekly Yoga & Social
DESCRIPTION:
URL:https://www.montclaircc.org/event/weekly-yoga-social/2027-08-05/
ATTACH;FMTTYPE=image/png:https://www.montclaircc.org/wp-content/uploads/sites/8481/2025/11/yoga.png
END:VEVENT
BEGIN:VEVENT
DTSTART;TZID=America/New_York:20270812T180000
DTEND;TZID=America/New_York:20270812T190000
DTSTAMP:20260423T021809
CREATED:20251114T184133Z
LAST-MODIFIED:20251114T184146Z
UID:10000108-1818093600-1818097200@www.montclaircc.org
SUMMARY:Weekly Yoga & Social
DESCRIPTION:
URL:https://www.montclaircc.org/event/weekly-yoga-social/2027-08-12/
ATTACH;FMTTYPE=image/png:https://www.montclaircc.org/wp-content/uploads/sites/8481/2025/11/yoga.png
END:VEVENT
BEGIN:VEVENT
DTSTART;TZID=America/New_York:20270819T180000
DTEND;TZID=America/New_York:20270819T190000
DTSTAMP:20260423T021809
CREATED:20251114T184133Z
LAST-MODIFIED:20251114T184146Z
UID:10000109-1818698400-1818702000@www.montclaircc.org
SUMMARY:Weekly Yoga & Social
DESCRIPTION:
URL:https://www.montclaircc.org/event/weekly-yoga-social/2027-08-19/
ATTACH;FMTTYPE=image/png:https://www.montclaircc.org/wp-content/uploads/sites/8481/2025/11/yoga.png
END:VEVENT
BEGIN:VEVENT
DTSTART;TZID=America/New_York:20270826T180000
DTEND;TZID=America/New_York:20270826T190000
DTSTAMP:20260423T021809
CREATED:20251114T184133Z
LAST-MODIFIED:20251114T184146Z
UID:10000110-1819303200-1819306800@www.montclaircc.org
SUMMARY:Weekly Yoga & Social
DESCRIPTION:
URL:https://www.montclaircc.org/event/weekly-yoga-social/2027-08-26/
ATTACH;FMTTYPE=image/png:https://www.montclaircc.org/wp-content/uploads/sites/8481/2025/11/yoga.png
END:VEVENT
END:VCALENDAR